BEGIN:VCALENDAR
VERSION:2.0
PRODID:-//ChamberMaster//Event Calendar 2.0//EN
METHOD:PUBLISH
X-PUBLISHED-TTL:P3D
REFRESH-INTERVAL:P3D
CALSCALE:GREGORIAN
BEGIN:VEVENT
DTSTART:20240908T120000Z
DTEND:20240908T220000Z
X-MICROSOFT-CDO-ALLDAYEVENT:FALSE
SUMMARY:Charity Challenge: The Great Descent
DESCRIPTION:DuPagePads is reaching new heights in their friend-raising to end homelessness on September 8\, 2024 with The Great Descent   an innovative and thrilling fundraising event hosted in partnership with Over the Edge. The event will see 100 thrill-seeking participants rappel 12 stories down the side of Hotel Arista located in the heart of the CITYGATE dining and entertainment campus in Naperville\, Illinois. Each participant must raise a minimum of $1\,000 in donations for DuPagePads to be eligible to rappel. Charity Challenge: The Great Descent is a day-long event\, which runs from 7am to 5pm at Hotel Arista. Family\, friends\, and spectators are invited to come down and support participants all day long. Only two organizations in Chicagoland will host the rappelling fundraiser in 2024 making this unique way to support DuPagePads something to remember for supporters as they demonstrate what is possible when we strive for new heights together! Registration is now open and DuPagePads invited you to join today as one of the 100 brave neighbors stepping off the roof of Hotel Arista and helping to end homelessness here at home!
X-ALT-DESC;FMTTYPE=text/html:DuPagePads is reaching new heights in their friend-raising to end homelessness on September 8\, 2024 with The Great Descent &ndash\; an innovative and thrilling fundraising event hosted in partnership with Over the Edge. The event will see 100 thrill-seeking participants rappel 12 stories down the side of Hotel Arista located in the heart of the CITYGATE dining and entertainment campus in Naperville\, Illinois. Each participant must raise a minimum of $1\,000 in donations for DuPagePads to be eligible to rappel. Charity Challenge: The Great Descent is a day-long event\, which runs from 7am to 5pm at Hotel Arista. Family\, friends\, and spectators are invited to come down and support participants all day long. Only two organizations in Chicagoland will host the rappelling fundraiser in 2024 making this unique way to support DuPagePads something to remember for supporters as they demonstrate what is possible when we strive for new heights together! Registration is now open and DuPagePads invited you to join today as one of the 100 brave neighbors stepping off the roof of Hotel Arista and helping to end homelessness here at home!
LOCATION:Hotel Arista - 2139 City Gate Ln Naperville\, IL 60563
UID:e.95.3299
SEQUENCE:3
DTSTAMP:20260423T090751Z
URL:https://cm.carolstreamchamber.com/events/details/charity-challenge-the-great-descent-3299
END:VEVENT

END:VCALENDAR
